BEGIN:VCALENDAR
VERSION:2.0
PRODID:-//hacksw/handcal//NONSGML v1.0//EN
BEGIN:VEVENT
SUMMARY:Stage sportif Jeunes - Vacances d'avril 2026
UID:19db62f7-77a4-4701-9f11-726ca47a2f3f
DTSTART:20260427T120000Z
DTEND:20260430T160000Z
LOCATION:Localisation   
CATEGORIES:Stage
STATUS:
URL;VALUE=URI:https://www.chavilletiralarc.com/evenements/2026/04/27/stage-sportif-jeunes-vacances-davril-2026-2440273
END:VEVENT
END:VCALENDAR
